BEGIN:VCALENDAR
VERSION:2.0
PRODID:-//Deutscher Ringer-Bund e.V. - ECPv6.15.16//NONSGML v1.0//EN
CALSCALE:GREGORIAN
METHOD:PUBLISH
X-WR-CALNAME:Deutscher Ringer-Bund e.V.
X-ORIGINAL-URL:https://www.ringen.de
X-WR-CALDESC:Veranstaltungen für Deutscher Ringer-Bund e.V.
REFRESH-INTERVAL;VALUE=DURATION:PT1H
X-Robots-Tag:noindex
X-PUBLISHED-TTL:PT1H
BEGIN:VTIMEZONE
TZID:Europe/Berlin
BEGIN:DAYLIGHT
TZOFFSETFROM:+0100
TZOFFSETTO:+0200
TZNAME:CEST
DTSTART:20250330T010000
END:DAYLIGHT
BEGIN:STANDARD
TZOFFSETFROM:+0200
TZOFFSETTO:+0100
TZNAME:CET
DTSTART:20251026T010000
END:STANDARD
BEGIN:DAYLIGHT
TZOFFSETFROM:+0100
TZOFFSETTO:+0200
TZNAME:CEST
DTSTART:20260329T010000
END:DAYLIGHT
BEGIN:STANDARD
TZOFFSETFROM:+0200
TZOFFSETTO:+0100
TZNAME:CET
DTSTART:20261025T010000
END:STANDARD
BEGIN:DAYLIGHT
TZOFFSETFROM:+0100
TZOFFSETTO:+0200
TZNAME:CEST
DTSTART:20270328T010000
END:DAYLIGHT
BEGIN:STANDARD
TZOFFSETFROM:+0200
TZOFFSETTO:+0100
TZNAME:CET
DTSTART:20271031T010000
END:STANDARD
END:VTIMEZONE
BEGIN:VEVENT
DTSTART;VALUE=DATE:20260124
DTEND;VALUE=DATE:20260125
DTSTAMP:20260421T144346
CREATED:20250819T090636Z
LAST-MODIFIED:20260108T141219Z
UID:10000036-1769212800-1769299199@www.ringen.de
SUMMARY:DRB Kader-Sichtungsturnier U17 (FS+GR+WW)
DESCRIPTION:
URL:https://www.ringen.de/termine/drb-kaderturnier-u17-beide-stilarten/
LOCATION:Sporthalle Boelerheide\, Kapellenstraße 38\, 58099 Hagen\, Kapellenstraße 38\, 58099 Hagen
CATEGORIES:Deutsche Meisterschaften
END:VEVENT
END:VCALENDAR